BEGIN:VCALENDAR
VERSION:2.0
PRODID:icalendar-ruby
CALSCALE:GREGORIAN
BEGIN:VEVENT
DTSTAMP:20181224T112536Z
UID:2ab2e60b-1e37-4190-9a0f-10cb2fe2447a
DTSTART;VALUE=DATE:20090818
DESCRIPTION:Property ID# 200004\, Locatoin: Eves Auction Room.....Willow St
 reet\, Tauranga\, Time: 1pm
SUMMARY:Auction for 
END:VEVENT
END:VCALENDAR
