BEGIN:VCALENDAR
VERSION:2.0
PRODID:icalendar-ruby
CALSCALE:GREGORIAN
BEGIN:VEVENT
DTSTAMP:20181224T112458Z
UID:28c2f5e4-bc79-4f9e-ba1b-ecdcd5327800
DTSTART;VALUE=DATE:20120228
DESCRIPTION:Property ID# 280445\, Locatoin: Auction Rooms\, 247 Cameron Rd\
 , Tauranga\, Time: 3 PM
SUMMARY:Auction for 
END:VEVENT
END:VCALENDAR
