BEGIN:VCALENDAR
VERSION:2.0
PRODID:icalendar-ruby
CALSCALE:GREGORIAN
BEGIN:VEVENT
DTSTAMP:20181224T112507Z
UID:40c2c32a-ceb5-4d9e-9fbf-3c7fec126a77
DTSTART;VALUE=DATE:20131128
DESCRIPTION:Property ID# 299819\, Locatoin: Eves Auction Rooms\, 247 Camero
 n Road\, Tauranga\, Time: 3.00pm
SUMMARY:Auction for 
END:VEVENT
END:VCALENDAR
