BEGIN:VCALENDAR
VERSION:2.0
PRODID:icalendar-ruby
CALSCALE:GREGORIAN
BEGIN:VEVENT
DTSTAMP:20181224T112512Z
UID:7ecb7a80-d43f-44ea-a64d-fc3db499fe47
DTSTART;VALUE=DATE:20150402
DESCRIPTION:Property ID# 336265\, Locatoin: Auction Rooms\, 247 Cameron Roa
 d\, Tauranga\, Time: 3pm (if not sold prior)
SUMMARY:Auction for 
END:VEVENT
END:VCALENDAR
