BEGIN:VCALENDAR
VERSION:2.0
PRODID:icalendar-ruby
CALSCALE:GREGORIAN
BEGIN:VEVENT
DTSTAMP:20181224T112529Z
UID:f256c712-8c05-4084-a530-ba961dc3a443
DTSTART;VALUE=DATE:20151108
DESCRIPTION:Property ID# 352325\, Locatoin: On Site\, Time: 12  o'clock
SUMMARY:Auction for 
END:VEVENT
END:VCALENDAR
