BEGIN:VCALENDAR
VERSION:2.0
PRODID:icalendar-ruby
CALSCALE:GREGORIAN
BEGIN:VEVENT
DTSTAMP:20191220T014021Z
UID:9eb03e98-0518-4e4c-9a99-fd4092e9c691
DTSTART;VALUE=DATE:20200115
DESCRIPTION:Property ID# 467291\, Locatoin: Ray White offices\, Time: 1:00P
 M
SUMMARY:Auction for 11 Commons Avenue 
END:VEVENT
END:VCALENDAR
