BEGIN:VCALENDAR
VERSION:2.0
PRODID:icalendar-ruby
CALSCALE:GREGORIAN
BEGIN:VEVENT
DTSTAMP:20191220T014040Z
UID:bb08fac7-22cc-4310-8fe0-5db0102c0c2f
DTSTART;VALUE=DATE:20191218
DESCRIPTION:Property ID# 468363\, Locatoin: Ray White Auction Rooms - 5/9 D
 omain Road\, Papamoa (unless sold prior)\, Time: 1:00PM
SUMMARY:Auction for 
END:VEVENT
END:VCALENDAR
