BEGIN:VCALENDAR
VERSION:2.0
PRODID:icalendar-ruby
CALSCALE:GREGORIAN
BEGIN:VEVENT
DTSTAMP:20191220T014237Z
UID:39231a9a-456b-4801-bd2d-b40f37b299cc
DTSTART;VALUE=DATE:20200123
DESCRIPTION:Property ID# 468397\, Locatoin: at 1:30pm (unless sold prior) H
 arcourts Auction Rooms\, 1 Third Avenue\, Tauranga\, Time: 12:00PM
SUMMARY:Auction for 387D Oceanbeach Road 
END:VEVENT
END:VCALENDAR
