BEGIN:VCALENDAR
VERSION:2.0
PRODID:icalendar-ruby
CALSCALE:GREGORIAN
BEGIN:VEVENT
DTSTAMP:20191220T014209Z
UID:487c7e60-f413-49cb-a7fa-55b32094684d
DTSTART;VALUE=DATE:20200123
DESCRIPTION:Property ID# 468938\, Locatoin: ANZ House\, 247 Cameron Road\, 
 Tauranga\, Time: 12:00PM
SUMMARY:Auction for 60a Dickson Road
END:VEVENT
END:VCALENDAR
