BEGIN:VCALENDAR
VERSION:2.0
PRODID:icalendar-ruby
CALSCALE:GREGORIAN
BEGIN:VEVENT
DTSTAMP:20191220T014101Z
UID:a0a60ffa-5211-4159-a2f0-7a20f1ff61d7
DTSTART;VALUE=DATE:20200123
DESCRIPTION:Property ID# 469284\, Locatoin: Harcourts Auction Rooms\, 1 Thi
 rd Avenue\, Tauranga (Unless Sold Prior)\, Time: 1:30PM
SUMMARY:Auction for 5 Hayley Grove
END:VEVENT
END:VCALENDAR
