BEGIN:VCALENDAR
VERSION:2.0
PRODID:icalendar-ruby
CALSCALE:GREGORIAN
BEGIN:VEVENT
DTSTAMP:20191220T014231Z
UID:5a29738a-3dcc-4217-b522-f0c3c9a281ad
DTSTART;VALUE=DATE:20200123
DESCRIPTION:Property ID# 469325\, Locatoin: EVES Auction Room: 247 Cameron 
 Road\, Tauranga (unless sold prior)	\, Time: 1:00PM
SUMMARY:Auction for 97  The Boulevard
END:VEVENT
END:VCALENDAR
