BEGIN:VCALENDAR
VERSION:2.0
PRODID:icalendar-ruby
CALSCALE:GREGORIAN
BEGIN:VEVENT
DTSTAMP:20191220T014130Z
UID:6072ca7c-8835-41ae-a2ce-4a10c62e9c9f
DTSTART;VALUE=DATE:20200123
DESCRIPTION:Property ID# 469501\, Locatoin: Harcourts Auction Rooms\, 1 Thi
 rd Avenue\, Tauranga (Unless Sold Prior)\, Time: 1:30PM
SUMMARY:Auction for 18 Carrington Drive
END:VEVENT
END:VCALENDAR
