BEGIN:VCALENDAR
VERSION:2.0
PRODID:icalendar-ruby
CALSCALE:GREGORIAN
BEGIN:VEVENT
DTSTAMP:20191220T014124Z
UID:d5f2f183-19e4-477d-a606-9d0b05501a7e
DTSTART;VALUE=DATE:20200130
DESCRIPTION:Property ID# 469650\, Locatoin: at 1:00pm (unless sold prior) I
 n Rooms\, 1 Third Avenue\, Tauranga\, Time: 12:00PM
SUMMARY:Auction for 88 Oceanview Road
END:VEVENT
END:VCALENDAR
