BEGIN:VCALENDAR
VERSION:2.0
PRODID:icalendar-ruby
CALSCALE:GREGORIAN
BEGIN:VEVENT
DTSTAMP:20210120T230807Z
UID:3153c816-76de-4d4c-b73f-7b847b7d68bf
DTSTART;VALUE=DATE:20200227
DESCRIPTION:Property ID# 471983\, Locatoin: Harcourts Auction Room\, 1 Thir
 d Avenue\, Tauranga (Unless Sold Prior)\, Time: 1:00PM
SUMMARY:Auction for 
END:VEVENT
END:VCALENDAR
