BEGIN:VCALENDAR
VERSION:2.0
PRODID:icalendar-ruby
CALSCALE:GREGORIAN
BEGIN:VEVENT
DTSTAMP:20210120T230758Z
UID:a6e467dc-8a6b-43ab-b3ba-22d2363f1107
DTSTART;VALUE=DATE:20200319
DESCRIPTION:Property ID# 473628\, Locatoin: EVES Auction Room: 247 Cameron 
 Road\, Tauranga (unless sold prior)	\, Time: 1:00PM
SUMMARY:Auction for 
END:VEVENT
END:VCALENDAR
