BEGIN:VCALENDAR
VERSION:2.0
PRODID:icalendar-ruby
CALSCALE:GREGORIAN
BEGIN:VEVENT
DTSTAMP:20210120T230741Z
UID:584a91a0-5780-4881-9559-69c29caabcaf
DTSTART;VALUE=DATE:20200630
DESCRIPTION:Property ID# 481955\, Locatoin: 247 Cameron Rd\, Tauranga\, Tim
 e: 4:00PM
SUMMARY:Auction for 
END:VEVENT
END:VCALENDAR
