BEGIN:VCALENDAR
VERSION:2.0
PRODID:icalendar-ruby
CALSCALE:GREGORIAN
BEGIN:VEVENT
DTSTAMP:20210120T230745Z
UID:2ff398e8-8ff2-4018-80d5-d44d1fd4e1c5
DTSTART;VALUE=DATE:20200831
DESCRIPTION:Property ID# 482347\, Locatoin:  In Rooms\, 1 Third Avenue\, Ta
 uranga\, Time: 12:30PM
SUMMARY:Auction for 
END:VEVENT
END:VCALENDAR
