BEGIN:VCALENDAR
VERSION:2.0
PRODID:icalendar-ruby
CALSCALE:GREGORIAN
BEGIN:VEVENT
DTSTAMP:20210120T230756Z
UID:37533b14-6f96-4128-be5b-c6edec33b1af
DTSTART;VALUE=DATE:20200903
DESCRIPTION:Property ID# 487087\, Locatoin: EVES Auction Room: 247 Cameron 
 Road\, Tauranga (unless sold prior)	\, Time: 1:00PM
SUMMARY:Auction for 
END:VEVENT
END:VCALENDAR
