BEGIN:VCALENDAR
VERSION:2.0
PRODID:icalendar-ruby
CALSCALE:GREGORIAN
BEGIN:VEVENT
DTSTAMP:20210120T230724Z
UID:57fd8857-6294-4a06-8f93-b42610f42a07
DTSTART;VALUE=DATE:20200923
DESCRIPTION:Property ID# 488484\, Locatoin: Bayleys Auction Rooms\, Ground 
 Floor\, 247 Cameron Road\, Tauranga\, Time: 1:00PM
SUMMARY:Auction for 
END:VEVENT
END:VCALENDAR
