BEGIN:VCALENDAR
VERSION:2.0
PRODID:icalendar-ruby
CALSCALE:GREGORIAN
BEGIN:VEVENT
DTSTAMP:20210120T230722Z
UID:dd5c2ee8-9472-4dca-ab0e-41a297d0cf11
DTSTART;VALUE=DATE:20200930
DESCRIPTION:Property ID# 489058\, Locatoin: Auction Rooms\, 247 Cameron Roa
 d\, Tauranga. Unless sold prior\, Time: 1:00PM
SUMMARY:Auction for 
END:VEVENT
END:VCALENDAR
