BEGIN:VCALENDAR
VERSION:2.0
PRODID:icalendar-ruby
CALSCALE:GREGORIAN
BEGIN:VEVENT
DTSTAMP:20210120T230804Z
UID:97e3ee2e-2a74-4806-8dbf-9a37e0ad64b8
DTSTART;VALUE=DATE:20200914
DESCRIPTION:Property ID# 489419\, Locatoin: EVES Auction Room: 247 Cameron 
 Road\, Tauranga (unless sold prior)	\, Time: 4:00PM
SUMMARY:Auction for 
END:VEVENT
END:VCALENDAR
