BEGIN:VCALENDAR
VERSION:2.0
PRODID:icalendar-ruby
CALSCALE:GREGORIAN
BEGIN:VEVENT
DTSTAMP:20210120T230754Z
UID:f0bd68ac-d6a6-4b8e-a2c2-eb0f7b6e07ea
DTSTART;VALUE=DATE:20201112
DESCRIPTION:Property ID# 492679\, Locatoin: Eves Auction Room: 247 Cameron 
 Road\, Tauranga (unless sold prior)	\, Time: 1:00PM
SUMMARY:Auction for 
END:VEVENT
END:VCALENDAR
