BEGIN:VCALENDAR
VERSION:2.0
PRODID:icalendar-ruby
CALSCALE:GREGORIAN
BEGIN:VEVENT
DTSTAMP:20210120T230814Z
UID:292f647b-dc86-4772-9b15-a8e2b3b3478d
DTSTART;VALUE=DATE:20201210
DESCRIPTION:Property ID# 496121\, Locatoin: Harcourts\, 1 Third Avenue\, Ta
 uranga\, Time: 1:30PM
SUMMARY:Auction for 
END:VEVENT
END:VCALENDAR
