BEGIN:VCALENDAR
VERSION:2.0
PRODID:icalendar-ruby
CALSCALE:GREGORIAN
BEGIN:VEVENT
DTSTAMP:20210120T230751Z
UID:f18b3891-9161-49dc-b3b5-353f7b5c7667
DTSTART;VALUE=DATE:20210121
DESCRIPTION:Property ID# 498607\, Locatoin: 247 Cameron Road\, Tauranga (Un
 less Sold Prior)\, Time: 1:00PM
SUMMARY:Auction for 18B Oriana Crescent
END:VEVENT
END:VCALENDAR
