BEGIN:VCALENDAR
VERSION:2.0
PRODID:icalendar-ruby
CALSCALE:GREGORIAN
BEGIN:VEVENT
DTSTAMP:20210120T230750Z
UID:0bbe0010-381c-4ba3-be45-07ee7aafbdf9
DTSTART;VALUE=DATE:20210211
DESCRIPTION:Property ID# 499563\, Locatoin: 247 Cameron Road (Unless Sold P
 rior)\, Time: 1:00PM
SUMMARY:Auction for 34 Bertrowe Drive
END:VEVENT
END:VCALENDAR
