BEGIN:VCALENDAR
VERSION:2.0
PRODID:icalendar-ruby
CALSCALE:GREGORIAN
BEGIN:VEVENT
DTSTAMP:20210120T230759Z
UID:27308dbe-954d-4c4e-819a-b5e523100d62
DTSTART;VALUE=DATE:20210211
DESCRIPTION:Property ID# 499620\, Locatoin: 247 Cameron Road\, Tauranga\, T
 ime: 12:00PM
SUMMARY:Auction for 52 Little John Drive
END:VEVENT
END:VCALENDAR
