BEGIN:VCALENDAR
VERSION:2.0
PRODID:icalendar-ruby
CALSCALE:GREGORIAN
BEGIN:VEVENT
DTSTAMP:20210120T230709Z
UID:82b2c6e6-af50-465b-8edb-1a7b61a0e762
DTSTART;VALUE=DATE:20210217
DESCRIPTION:Property ID# 500225\, Locatoin: Bayleys Auction Rooms\, Ground 
 Floor\, 247 Cameron Road\, Tauranga\, Time: 1:00PM
SUMMARY:Auction for 682A Oropi Road
END:VEVENT
END:VCALENDAR
