BEGIN:VCALENDAR
VERSION:2.0
PRODID:icalendar-ruby
CALSCALE:GREGORIAN
BEGIN:VEVENT
DTSTAMP:20210120T230748Z
UID:e4ceddf1-7af5-4de8-a580-3f8e8d3f368e
DTSTART;VALUE=DATE:20210218
DESCRIPTION:Property ID# 500255\, Locatoin: 247 Cameron Road (Unless Sold P
 rior)\, Time: 1:00PM
SUMMARY:Auction for 46 Queens Road
END:VEVENT
END:VCALENDAR
