BEGIN:VCALENDAR
VERSION:2.0
PRODID:icalendar-ruby
CALSCALE:GREGORIAN
BEGIN:VEVENT
DTSTAMP:20191220T014206Z
UID:1f138d25-38e0-448a-b967-f50a081fb33e
DTSTART;TZID=Pacific/Auckland:20191222T140000
DTEND;TZID=Pacific/Auckland:20191222T143000
DESCRIPTION:Property ID# 468938
SUMMARY:Openhome for 60a Dickson Road
END:VEVENT
END:VCALENDAR
