BEGIN:VCALENDAR
VERSION:2.0
PRODID:icalendar-ruby
CALSCALE:GREGORIAN
BEGIN:VEVENT
DTSTAMP:20191220T014122Z
UID:de0ce3bb-58cd-495e-a977-7c11bcb0816b
DTSTART;TZID=Pacific/Auckland:20191221T130000
DTEND;TZID=Pacific/Auckland:20191221T140000
DESCRIPTION:Property ID# 469650
SUMMARY:Openhome for 88 Oceanview Road
END:VEVENT
END:VCALENDAR
