BEGIN:VCALENDAR
VERSION:2.0
PRODID:icalendar-ruby
CALSCALE:GREGORIAN
BEGIN:VEVENT
DTSTAMP:20260421T002216Z
UID:495a94f3-9d4f-4e07-9b2f-28dea50ba6d1
DTSTART;VALUE=DATE:20200205
DESCRIPTION:Property ID# 470181\, Locatoin: (1 Third Avenue\, Tauranga) Unl
 ess Sold Prior\, Time: 1:30PM
SUMMARY:Auction for 
END:VEVENT
END:VCALENDAR
