BEGIN:VCALENDAR
VERSION:2.0
PRODID:icalendar-ruby
CALSCALE:GREGORIAN
BEGIN:VEVENT
DTSTAMP:20260420T223554Z
UID:7db571f4-62d9-47df-98e3-3241f017c786
DTSTART;VALUE=DATE:20200611
DESCRIPTION:Property ID# 480775\, Locatoin: Harcourts\, 1 Third Avenue\, Ta
 uranga\, Time: 1:00PM
SUMMARY:Auction for 
END:VEVENT
END:VCALENDAR
