BEGIN:VCALENDAR
VERSION:2.0
PRODID:icalendar-ruby
CALSCALE:GREGORIAN
BEGIN:VEVENT
DTSTAMP:20260421T000736Z
UID:c09f95f7-55e1-4668-8322-03a9a2783b93
DTSTART;VALUE=DATE:20201022
DESCRIPTION:Property ID# 487520\, Locatoin: at 2:00pm (unless sold prior) H
 arcourts Auction Rooms\, 1 Third Avenue\, Tauranga\, Time: 12:00PM
SUMMARY:Auction for 
END:VEVENT
END:VCALENDAR
