BEGIN:VCALENDAR
VERSION:2.0
PRODID:icalendar-ruby
CALSCALE:GREGORIAN
BEGIN:VEVENT
DTSTAMP:20260423T234448Z
UID:05ae5f9f-cf9c-4fef-8e2d-cdbaca36d79f
DTSTART;VALUE=DATE:20201205
DESCRIPTION:Property ID# 495231\, Time: 1:00PM
SUMMARY:Auction for 
END:VEVENT
END:VCALENDAR
