BEGIN:VCALENDAR
VERSION:2.0
PRODID:icalendar-ruby
CALSCALE:GREGORIAN
BEGIN:VEVENT
DTSTAMP:20260421T001849Z
UID:d2ada741-f2a6-4bf8-8809-372ad5665d8e
DTSTART;VALUE=DATE:20210331
DESCRIPTION:Property ID# 503961\, Locatoin: at 1:00pm (unless sold prior) H
 arcourts Auction Rooms\, 1 Third Avenue\, Tauranga\, Time: 12:00PM
SUMMARY:Auction for 
END:VEVENT
END:VCALENDAR
