BEGIN:VCALENDAR
VERSION:2.0
PRODID:icalendar-ruby
CALSCALE:GREGORIAN
BEGIN:VEVENT
DTSTAMP:20260423T160519Z
UID:63db51b8-9062-43f8-8e4b-cbbaf3904c0e
DTSTART;VALUE=DATE:20210622
DESCRIPTION:Property ID# 510976\, Time: 4:00PM
SUMMARY:Auction for 
END:VEVENT
END:VCALENDAR
