BEGIN:VCALENDAR
VERSION:2.0
PRODID:icalendar-ruby
CALSCALE:GREGORIAN
BEGIN:VEVENT
DTSTAMP:20260421T000317Z
UID:1a64730e-da82-437c-9bba-84e004e25a9f
DTSTART;VALUE=DATE:20210701
DESCRIPTION:Property ID# 512002\, Locatoin: at 1:00pm (unless sold prior) H
 arcourts Auction Rooms\, 1 Third Avenue\, Tauranga\, Time: 12:00PM
SUMMARY:Auction for 
END:VEVENT
END:VCALENDAR
