BEGIN:VCALENDAR
VERSION:2.0
PRODID:icalendar-ruby
CALSCALE:GREGORIAN
BEGIN:VEVENT
DTSTAMP:20260423T160626Z
UID:de3588b0-f6f0-49bb-a5ca-703bde5841c0
DTSTART;VALUE=DATE:20210928
DESCRIPTION:Property ID# 516626\, Time: 4:00PM
SUMMARY:Auction for 
END:VEVENT
END:VCALENDAR
