BEGIN:VCALENDAR
VERSION:2.0
PRODID:icalendar-ruby
CALSCALE:GREGORIAN
BEGIN:VEVENT
DTSTAMP:20260424T202222Z
UID:01100621-ed5f-42f8-8a63-e3e5b304c0ff
DTSTART;VALUE=DATE:20211117
DESCRIPTION:Property ID# 518506\, Locatoin: Auction Rooms\, 247 Cameron Roa
 d\, Tauranga. Unless sold prior\, Time: 1:00PM
SUMMARY:Auction for 
END:VEVENT
END:VCALENDAR
