BEGIN:VCALENDAR
VERSION:2.0
PRODID:icalendar-ruby
CALSCALE:GREGORIAN
BEGIN:VEVENT
DTSTAMP:20260421T000613Z
UID:a2c44424-4d22-47b7-bf73-5dfae67367f1
DTSTART;VALUE=DATE:20211221
DESCRIPTION:Property ID# 522705\, Locatoin: at 12:00pm (unless sold prior) 
 Harcourts Auction Rooms\, 1 Third Avenue\, Tauranga\, Time: 12:00PM
SUMMARY:Auction for 
END:VEVENT
END:VCALENDAR
