BEGIN:VCALENDAR
VERSION:2.0
PRODID:icalendar-ruby
CALSCALE:GREGORIAN
BEGIN:VEVENT
DTSTAMP:20260424T171103Z
UID:bae7a4e5-ec4d-447d-abd2-c4951c9816f3
DTSTART;VALUE=DATE:20220202
DESCRIPTION:Property ID# 524132\, Locatoin: 247 Cameron Road Tauranga\, Bay
 leys Auction Rooms\, Time: 1:00PM
SUMMARY:Auction for 
END:VEVENT
END:VCALENDAR
