BEGIN:VCALENDAR
VERSION:2.0
PRODID:icalendar-ruby
CALSCALE:GREGORIAN
BEGIN:VEVENT
DTSTAMP:20260423T160519Z
UID:7627b92f-6d84-47e2-934d-4c34e00981fe
DTSTART;VALUE=DATE:20220123
DESCRIPTION:Property ID# 524558\, Locatoin: AUCTION ON SITE (unless sold pr
 ior) \, Time: 11:00AM
SUMMARY:Auction for 
END:VEVENT
END:VCALENDAR
