BEGIN:VCALENDAR
VERSION:2.0
PRODID:icalendar-ruby
CALSCALE:GREGORIAN
BEGIN:VEVENT
DTSTAMP:20260421T000706Z
UID:d914d5b6-80b7-4f38-97e7-02023830f3bf
DTSTART;VALUE=DATE:20220117
DESCRIPTION:Property ID# 525915\, Locatoin: at 12:30pm (unless sold prior) 
 Harcourts Auction Rooms\, 1 Third Avenue\, Tauranga\, Time: 12:00PM
SUMMARY:Auction for 
END:VEVENT
END:VCALENDAR
