BEGIN:VCALENDAR
VERSION:2.0
PRODID:icalendar-ruby
CALSCALE:GREGORIAN
BEGIN:VEVENT
DTSTAMP:20260419T190342Z
UID:c6e74821-5752-4ddf-b451-91f8e9529f6a
DTSTART;VALUE=DATE:20220915
DESCRIPTION:Property ID# 542875\, Locatoin: Harcourt Auction Room\, 1 Third
  Avenue\, Tauranga\, Time: 11:00AM
SUMMARY:Auction for 
END:VEVENT
END:VCALENDAR
