BEGIN:VCALENDAR
VERSION:2.0
PRODID:icalendar-ruby
CALSCALE:GREGORIAN
BEGIN:VEVENT
DTSTAMP:20260424T011342Z
UID:adacf176-3f16-4c8d-8e1f-e8f00680c15b
DTSTART;VALUE=DATE:20250130
DESCRIPTION:Property ID# 586372\, Locatoin: Auction Rooms\, 247 Cameron Roa
 d\, Tauranga. Unless sold prior\, Time: 1:00PM
SUMMARY:Auction for 
END:VEVENT
END:VCALENDAR
