BEGIN:VCALENDAR
VERSION:2.0
PRODID:icalendar-ruby
CALSCALE:GREGORIAN
BEGIN:VEVENT
DTSTAMP:20260424T011215Z
UID:29c2e7ef-5539-4b2c-ad74-c68cca5873fc
DTSTART;VALUE=DATE:20251016
DESCRIPTION:Property ID# 597822\, Locatoin: EVES Auction Room: 247 Cameron 
 Road\, Tauranga (unless sold prior)	\, Time: 1:00PM
SUMMARY:Auction for 
END:VEVENT
END:VCALENDAR
