BEGIN:VCALENDAR
VERSION:2.0
PRODID:icalendar-ruby
CALSCALE:GREGORIAN
BEGIN:VEVENT
DTSTAMP:20260424T012101Z
UID:9d0fe302-4b5d-40b5-b521-fda7570b957b
DTSTART;VALUE=DATE:20260507
DESCRIPTION:Property ID# 606969\, Locatoin: Auction Rooms\, 247 Cameron Roa
 d\, Tauranga. Unless sold prior\, Time: 1:00PM
SUMMARY:Auction for 9 Ashmore Court
END:VEVENT
END:VCALENDAR
