BEGIN:VCALENDAR
VERSION:2.0
PRODID:icalendar-ruby
CALSCALE:GREGORIAN
BEGIN:VEVENT
DTSTAMP:20260423T131606Z
UID:6db27c68-caba-4a39-b6e1-57f1ba30452e
DTSTART;VALUE=DATE:20260513
DESCRIPTION:Property ID# 607050\, Locatoin: at 11:30am\, Harcourts Auction 
 Room\, 1 Third Avenue\, Tauranga\, Time: 12:00PM
SUMMARY:Auction for 10 Evansbel Place
END:VEVENT
END:VCALENDAR
