BEGIN:VCALENDAR
VERSION:2.0
PRODID:icalendar-ruby
CALSCALE:GREGORIAN
BEGIN:VEVENT
DTSTAMP:20260423T131552Z
UID:411aefa4-15c5-4f1c-adc3-ef696b7c9da9
DTSTART;VALUE=DATE:20260513
DESCRIPTION:Property ID# 607138\, Time: 4:00PM
SUMMARY:Auction for 187 Matapihi Road
END:VEVENT
END:VCALENDAR
