BEGIN:VCALENDAR
VERSION:2.0
PRODID:icalendar-ruby
CALSCALE:GREGORIAN
BEGIN:VEVENT
DTSTAMP:20260423T130934Z
UID:7a389df8-7a2b-431c-b4c3-b2290e112ba4
DTSTART;VALUE=DATE:20260514
DESCRIPTION:Property ID# 607140\, Locatoin: Eves Auction Rooms\, 247 Camero
 n Road\, Tauranga\, Time: 12:00PM
SUMMARY:Auction for 655 Grenada Street
END:VEVENT
END:VCALENDAR
